BEGIN:VCALENDAR
VERSION:2.0
PRODID:-//wp-events-plugin.com//7.2.2.1//EN
BEGIN:VEVENT
UID:424@lovewokingham.co.uk
DTSTART;TZID=Europe/London:20231222T190000
DTEND;TZID=Europe/London:20231222T234500
DTSTAMP:20231129T122751Z
URL:https://www.lovewokingham.co.uk/events/21st-century-abba-abba-tribute
SUMMARY:21st Century Abba - Abba Tribute
DESCRIPTION:Dance the night away
ATTACH;FMTTYPE=image/jpeg:https://www.lovewokingham.co.uk/wp-content/uploa
 ds/2023/11/320978623_514968000416887_3753881441882350206_n.jpg
CATEGORIES:Mailchimp Events
LOCATION:Bier Keller & Apres\, Coppid Beach Hotel\, John Nike Way\, Brackne
 ll\, RG12 8TF\, United Kingdom
GEO:51.415278;-0.79
X-APPLE-STRUCTURED-LOCATION;VALUE=URI;X-ADDRESS=Coppid Beach Hotel\, John N
 ike Way\, Bracknell\, RG12 8TF\, United Kingdom;X-APPLE-RADIUS=100;X-TITLE
 =Bier Keller & Apres:geo:51.415278,-0.79
END:VEVENT
BEGIN:VTIMEZONE
TZID:Europe/London
X-LIC-LOCATION:Europe/London
BEGIN:STANDARD
DTSTART:20231029T010000
TZOFFSETFROM:+0100
TZOFFSETTO:+0000
TZNAME:GMT
END:STANDARD
END:VTIMEZONE
END:VCALENDAR