BEGIN:VCALENDAR
VERSION:2.0
PRODID:-//wp-events-plugin.com//7.2.2.1//EN
BEGIN:VEVENT
UID:261@lovewokingham.co.uk
DTSTART;TZID=Europe/London:20230525T200000
DTEND;TZID=Europe/London:20230525T223000
DTSTAMP:20230425T121806Z
URL:https://www.lovewokingham.co.uk/events/2271
SUMMARY:Quiz Night - The Rose Inn
DESCRIPTION:Prizes to be won!
ATTACH;FMTTYPE=image/jpeg:https://www.lovewokingham.co.uk/wp-content/uploa
 ds/2023/04/330370568_940330826973549_4423468476572218708_n.jpg
CATEGORIES:Mailchimp Events
LOCATION:The Rose Inn\, Market Place\, Wokingham\, Berkshire\, RG40 1AS\, U
 nited Kingdom
X-APPLE-STRUCTURED-LOCATION;VALUE=URI;X-ADDRESS=Market Place\, Wokingham\, 
 Berkshire\, RG40 1AS\, United Kingdom;X-APPLE-RADIUS=100;X-TITLE=The Rose 
 Inn:geo:0,0
END:VEVENT
BEGIN:VTIMEZONE
TZID:Europe/London
X-LIC-LOCATION:Europe/London
BEGIN:DAYLIGHT
DTSTART:20230326T020000
TZOFFSETFROM:+0000
TZOFFSETTO:+0100
TZNAME:BST
END:DAYLIGHT
END:VTIMEZONE
END:VCALENDAR