BEGIN:VCALENDAR
VERSION:2.0
PRODID:-//wp-events-plugin.com//7.2.2.1//EN
BEGIN:VEVENT
UID:839@lovewokingham.co.uk
DTSTART;TZID=Europe/London:20250424T190000
DTEND;TZID=Europe/London:20250424T220000
DTSTAMP:20250327T121017Z
URL:https://www.lovewokingham.co.uk/events/a-private-audience-with-adele
SUMMARY:A Private Audience with Adele
DESCRIPTION:Salty Olive are excited to welcome the One &amp\; Only Adele Tr
 ibute\, handpicked by Adele herself\, on the Graham Norton show.\n\nTicket
  options:\n\nFront Dining tickets ~ £35 pp - Glass of Cava and our delici
 ous\, marinated olives on arrival.\n\nBack Lounge tickets ~ £30 pp - Glas
 s of Cava and our delicious\, marinated olives on arrival.\n\nPerformance 
 will be between 7 pm ~ 10 pm.\n\nPlease note: the performer will start in 
 the front area\, however she will move throughout all areas of our restaur
 ant throughout the event.\n\nTo book: https://www.sevenrooms.com/events/s
 altyolive\n\n&nbsp\;
ATTACH;FMTTYPE=image/jpeg:https://www.lovewokingham.co.uk/wp-content/uploa
 ds/2025/03/Adele5-scaled.jpg
CATEGORIES:Mailchimp Events
LOCATION:Salty Olive\, 5 Elms Rd\, Wokingham \, Berkshire\, RG40 2FE\, Unit
 ed Kingdom
X-APPLE-STRUCTURED-LOCATION;VALUE=URI;X-ADDRESS=5 Elms Rd\, Wokingham \, Be
 rkshire\, RG40 2FE\, United Kingdom;X-APPLE-RADIUS=100;X-TITLE=Salty Olive
 :geo:0,0
END:VEVENT
BEGIN:VTIMEZONE
TZID:Europe/London
X-LIC-LOCATION:Europe/London
BEGIN:DAYLIGHT
DTSTART:20250330T020000
TZOFFSETFROM:+0000
TZOFFSETTO:+0100
TZNAME:BST
END:DAYLIGHT
END:VTIMEZONE
END:VCALENDAR