BEGIN:VCALENDAR
VERSION:2.0
PRODID:-//wp-events-plugin.com//7.2.2.1//EN
BEGIN:VEVENT
UID:329@lovewokingham.co.uk
DTSTART;TZID=Europe/London:20230804T160000
DTEND;TZID=Europe/London:20230804T184500
DTSTAMP:20230730T141001Z
URL:https://www.lovewokingham.co.uk/events/abi-powell-at-the-leafy-elephan
 t
SUMMARY:Abi Powell at The Leafy Elephant
DESCRIPTION:Local singer-songwriter
ATTACH;FMTTYPE=image/jpeg:https://www.lovewokingham.co.uk/wp-content/uploa
 ds/2023/07/abi.jpg
CATEGORIES:Mailchimp Events
LOCATION:The Leafy Elephant\, 3 Peach Place\, Wokingham\, United Kingdom
X-APPLE-STRUCTURED-LOCATION;VALUE=URI;X-ADDRESS=3 Peach Place\, Wokingham\,
  United Kingdom;X-APPLE-RADIUS=100;X-TITLE=The Leafy Elephant:geo:0,0
END:VEVENT
BEGIN:VTIMEZONE
TZID:Europe/London
X-LIC-LOCATION:Europe/London
BEGIN:DAYLIGHT
DTSTART:20230326T020000
TZOFFSETFROM:+0000
TZOFFSETTO:+0100
TZNAME:BST
END:DAYLIGHT
END:VTIMEZONE
END:VCALENDAR