BEGIN:VCALENDAR
VERSION:2.0
PRODID:-//wp-events-plugin.com//7.2.2.1//EN
BEGIN:VEVENT
UID:582@lovewokingham.co.uk
DTSTART;TZID=Europe/London:20240518T100000
DTEND;TZID=Europe/London:20240518T140000
DTSTAMP:20240430T120847Z
URL:https://www.lovewokingham.co.uk/events/annual-town-meeting
SUMMARY:Annual Town Meeting
DESCRIPTION:\nFor this year’s Annual Town Meeting on Saturday 18th May\, 
 the Town Council will be out on Market Place as well as in the REME room i
 n the Town Hall for the more formal proceedings.\n\n\nThe town Mayor and c
 ouncillors will be present between 10am and 2pm\, so do go along\, find ou
 t more about what they do in our town\, and give feedback or ideas for fut
 ure projects.\n\n\nThey are not the Borough Council\, they mainly work sep
 arately\, but do collaborate on some projects or initiatives which directl
 y affect you.\n
ATTACH;FMTTYPE=image/jpeg:https://www.lovewokingham.co.uk/wp-content/uploa
 ds/2024/04/Annual-Town-Meeting-e1714478916562.png
CATEGORIES:Mailchimp Events
LOCATION:Wokingham Town Hall\, Market Place\, Wokingham\, Berkshire\, RG40 
 1AS\, United Kingdom
X-APPLE-STRUCTURED-LOCATION;VALUE=URI;X-ADDRESS=Market Place\, Wokingham\, 
 Berkshire\, RG40 1AS\, United Kingdom;X-APPLE-RADIUS=100;X-TITLE=Wokingham
  Town Hall:geo:0,0
END:VEVENT
BEGIN:VTIMEZONE
TZID:Europe/London
X-LIC-LOCATION:Europe/London
BEGIN:DAYLIGHT
DTSTART:20240331T020000
TZOFFSETFROM:+0000
TZOFFSETTO:+0100
TZNAME:BST
END:DAYLIGHT
END:VTIMEZONE
END:VCALENDAR