BEGIN:VCALENDAR
VERSION:2.0
PRODID:-//wp-events-plugin.com//7.2.2.1//EN
BEGIN:VEVENT
UID:753@lovewokingham.co.uk
DTSTART;TZID=Europe/London:20250228T193000
DTEND;TZID=Europe/London:20250228T220000
DTSTAMP:20241212T113730Z
URL:https://www.lovewokingham.co.uk/events/art-themen-friends-3
SUMMARY:Art Themen & Friends
DESCRIPTION:All proceeds go to Wokingham in Need\n\nBar is open before\, du
 ring interval and after the performance.\n\nTickets £20 https://www.ticke
 tsource.co.uk/booking/venueplan/leqnjkrmkjmn
ATTACH;FMTTYPE=image/jpeg:https://www.lovewokingham.co.uk/wp-content/uploa
 ds/2024/12/AT-Facebook-artwork-25-Poster-1-768x1024-1.png
CATEGORIES:Mailchimp Events
LOCATION:The Whitty Theatre\, Luckley Road\, Wokingham\, Berkshire\, RG403E
 U\, United Kingdom
GEO:51.398838;-0.839821
X-APPLE-STRUCTURED-LOCATION;VALUE=URI;X-ADDRESS=Luckley Road\, Wokingham\, 
 Berkshire\, RG403EU\, United Kingdom;X-APPLE-RADIUS=100;X-TITLE=The Whitty
  Theatre:geo:51.398838,-0.839821
END:VEVENT
BEGIN:VTIMEZONE
TZID:Europe/London
X-LIC-LOCATION:Europe/London
BEGIN:STANDARD
DTSTART:20241027T010000
TZOFFSETFROM:+0100
TZOFFSETTO:+0000
TZNAME:GMT
END:STANDARD
END:VTIMEZONE
END:VCALENDAR