BEGIN:VCALENDAR
VERSION:2.0
PRODID:-//wp-events-plugin.com//7.2.2.1//EN
BEGIN:VEVENT
UID:127@lovewokingham.co.uk
DTSTART;TZID=Europe/London:20220611T140000
DTEND;TZID=Europe/London:20220611T153000
DTSTAMP:20220525T170400Z
URL:https://www.lovewokingham.co.uk/events/baby-sale-fun-day
SUMMARY:Baby Sale & Fun Day
DESCRIPTION:Family Fun Day and Market.
ATTACH;FMTTYPE=image/jpeg:https://www.lovewokingham.co.uk/wp-content/uploa
 ds/2022/05/278171359_134088782498742_6080626852534520870_n.jpg
LOCATION:Arborfield Green Community Centre\, Princess Marina Drive\, Arborf
 ield\, RG2 9NN\, England\, United Kingdom
GEO:51.382461;-0.89827
X-APPLE-STRUCTURED-LOCATION;VALUE=URI;X-ADDRESS=Princess Marina Drive\, Arb
 orfield\, RG2 9NN\, England\, United Kingdom;X-APPLE-RADIUS=100;X-TITLE=Ar
 borfield Green Community Centre:geo:51.382461,-0.89827
END:VEVENT
BEGIN:VTIMEZONE
TZID:Europe/London
X-LIC-LOCATION:Europe/London
BEGIN:DAYLIGHT
DTSTART:20220327T020000
TZOFFSETFROM:+0000
TZOFFSETTO:+0100
TZNAME:BST
END:DAYLIGHT
END:VTIMEZONE
END:VCALENDAR