BEGIN:VCALENDAR
VERSION:2.0
PRODID:-//wp-events-plugin.com//7.2.2.1//EN
BEGIN:VEVENT
UID:830@lovewokingham.co.uk
DTSTART;TZID=Europe/London:20250418T200000
DTEND;TZID=Europe/London:20250418T220000
DTSTAMP:20250327T113222Z
URL:https://www.lovewokingham.co.uk/events/band-noisy-neighbours-at-dukes-
 head
SUMMARY:Band Noisy Neighbours at Dukes Head
DESCRIPTION:Join us at the Duke's Head in Wokingham on April 18th for an ev
 ening filled with incredible music\, good vibes\, and great company. Wheth
 er you're a music lover or just looking for a fun night out\, this is the 
 place to be!
ATTACH;FMTTYPE=image/jpeg:https://www.lovewokingham.co.uk/wp-content/uploa
 ds/2025/03/481079117_122115119642758782_4551617157525718547_n-scaled.jpg
CATEGORIES:Mailchimp Events
LOCATION:The Dukes Head\, 46 Denmark Street\, \, Wokingham\, 2BB\, United K
 ingdom
GEO:51.408594;-0.83544
X-APPLE-STRUCTURED-LOCATION;VALUE=URI;X-ADDRESS=46 Denmark Street\, \, Woki
 ngham\, 2BB\, United Kingdom;X-APPLE-RADIUS=100;X-TITLE=The Dukes Head:geo
 :51.408594,-0.83544
END:VEVENT
BEGIN:VTIMEZONE
TZID:Europe/London
X-LIC-LOCATION:Europe/London
BEGIN:DAYLIGHT
DTSTART:20250330T020000
TZOFFSETFROM:+0000
TZOFFSETTO:+0100
TZNAME:BST
END:DAYLIGHT
END:VTIMEZONE
END:VCALENDAR