BEGIN:VCALENDAR
VERSION:2.0
PRODID:-//wp-events-plugin.com//7.2.2.1//EN
BEGIN:VEVENT
UID:942@lovewokingham.co.uk
DTSTART;TZID=Europe/London:20251115T073000
DTEND;TZID=Europe/London:20251115T093000
DTSTAMP:20251008T154306Z
URL:https://www.lovewokingham.co.uk/events/baroque-masters-bach-handel
SUMMARY:Baroque Masters: Bach & Handel
DESCRIPTION:Wokingham Choral Society presents a concert of wonderful music 
 by Bach and Handel featuring 5 professional soloists and a Baroque orchest
 ra of strings\, woodwind\, trumpets\, harpsichord and timpani.\n\nTickets 
 £20 for adults / £5 students &amp\; u18s https://www.ticketsource.co.uk
 /wokingham-choral-society
ATTACH;FMTTYPE=image/jpeg:https://www.lovewokingham.co.uk/wp-content/uploa
 ds/2025/10/thumbnail_November-poster-landscape-v1-2025-002.jpg
CATEGORIES:Mailchimp Events
LOCATION:All Saint's Church\, Wiltshire Road\, Wokingham\, Berkshire\, RG40
  1TN\, England\, United Kingdom
GEO:51.412736;-0.82977
X-APPLE-STRUCTURED-LOCATION;VALUE=URI;X-ADDRESS=Wiltshire Road\, Wokingham\
 , Berkshire\, RG40 1TN\, England\, United Kingdom;X-APPLE-RADIUS=100;X-TIT
 LE=All Saint's Church:geo:51.412736,-0.82977
END:VEVENT
BEGIN:VTIMEZONE
TZID:Europe/London
X-LIC-LOCATION:Europe/London
BEGIN:STANDARD
DTSTART:20251026T010000
TZOFFSETFROM:+0100
TZOFFSETTO:+0000
TZNAME:GMT
END:STANDARD
END:VTIMEZONE
END:VCALENDAR