BEGIN:VCALENDAR
VERSION:2.0
PRODID:-//wp-events-plugin.com//7.2.2.1//EN
BEGIN:VEVENT
UID:793@lovewokingham.co.uk
DTSTART;TZID=Europe/London:20250314T193000
DTEND;TZID=Europe/London:20250314T223000
DTSTAMP:20250130T105347Z
URL:https://www.lovewokingham.co.uk/events/barry-white-tribute
SUMMARY:Barry White Tribute
DESCRIPTION:Barry White Tribute\nThis AMAZING Barry White Show by David fea
 tures all the greatest hits\, giving the audience some real “Wow” fact
 ors with his spectacular “velvet” voice and likeness\, adding Barry Wh
 ite’s smooth swagger this is a show not to be missed.\n\nTicket only ent
 rance £10 https://www.ticketsource.co.uk/thewhitehorse/barry-white-tribu
 te
ATTACH;FMTTYPE=image/jpeg:https://www.lovewokingham.co.uk/wp-content/uploa
 ds/2025/01/473174934_1157417079609740_4256385548605312481_n-e1738234349254
 .jpg
CATEGORIES:Mailchimp Events
LOCATION:The White Horse Pub\, Easthampstead Road\, Wokingham\, United King
 dom
X-APPLE-STRUCTURED-LOCATION;VALUE=URI;X-ADDRESS=Easthampstead Road\, Woking
 ham\, United Kingdom;X-APPLE-RADIUS=100;X-TITLE=The White Horse Pub:geo:0,
 0
END:VEVENT
BEGIN:VTIMEZONE
TZID:Europe/London
X-LIC-LOCATION:Europe/London
BEGIN:STANDARD
DTSTART:20241027T010000
TZOFFSETFROM:+0100
TZOFFSETTO:+0000
TZNAME:GMT
END:STANDARD
END:VTIMEZONE
END:VCALENDAR