BEGIN:VCALENDAR
VERSION:2.0
PRODID:-//wp-events-plugin.com//7.2.2.1//EN
BEGIN:VEVENT
UID:595@lovewokingham.co.uk
DTSTART;TZID=Europe/London:20240821T183000
DTEND;TZID=Europe/London:20240821T200000
DTSTAMP:20240801T103036Z
URL:https://www.lovewokingham.co.uk/events/bat-walk-talk
SUMMARY:Bat Walk & Talk
DESCRIPTION:\n\n\n\nLearn about the UK's native bats and how to detect them
 \, then head off around the park to put your new skills into practice.\n\n
 \n\n\nSuitable for ages 12 and over\n\nCost £15\n\n\n\n\n\n\n\nDetails:ht
 tp://www.wokinghamcountryside.co.uk/events/bat-walk-and-talk\n\n
ATTACH;FMTTYPE=image/jpeg:https://www.lovewokingham.co.uk/wp-content/uploa
 ds/2024/05/bat.png
CATEGORIES:Mailchimp Events
LOCATION:Dinton Pastures Country Park\,\, Davis Street\, Hurst\, Wokingham\
 , RG10 0TH\, United Kingdom
GEO:51.442424;-0.867744
X-APPLE-STRUCTURED-LOCATION;VALUE=URI;X-ADDRESS=Davis Street\, Hurst\, Woki
 ngham\, RG10 0TH\, United Kingdom;X-APPLE-RADIUS=100;X-TITLE=Dinton Pastur
 es Country Park\,:geo:51.442424,-0.867744
END:VEVENT
BEGIN:VTIMEZONE
TZID:Europe/London
X-LIC-LOCATION:Europe/London
BEGIN:DAYLIGHT
DTSTART:20240331T020000
TZOFFSETFROM:+0000
TZOFFSETTO:+0100
TZNAME:BST
END:DAYLIGHT
END:VTIMEZONE
END:VCALENDAR