BEGIN:VCALENDAR
VERSION:2.0
PRODID:-//wp-events-plugin.com//7.2.2.1//EN
BEGIN:VEVENT
UID:1049@lovewokingham.co.uk
DTSTART;TZID=Europe/London:20260501T120000
DTEND;TZID=Europe/London:20260504T233000
DTSTAMP:20260422T161025Z
URL:https://www.lovewokingham.co.uk/events/beer-festival-at-the-crispin
SUMMARY:Beer Festival at The Crispin
DESCRIPTION:\n\nJoin in the BIG weekend! Much loved cider and beer\, live m
 usic\, and celebrations!\n\nFriday 1st May – Monday 4th May\nUp to 10 ca
 sk ales on tap\n5 still ciders to enjoy\n\nFriday: DJ Skedge from 6pm\nSat
 urday: Gas Trick Band from 6pm\nExpect a fun\, lively atmosphere\, great c
 ompany\, and plenty of reasons to raise a glass 🍻\n\n
ATTACH;FMTTYPE=image/jpeg:https://www.lovewokingham.co.uk/wp-content/uploa
 ds/2026/04/669575490_1602475121620774_4174338155994501211_n.jpg
CATEGORIES:Mailchimp Events
LOCATION:The Crispin\, 45 Denmark Street\, Wokingham\, Berkshire\, RG40 2AY
 \, United Kingdom
GEO:51.408699;-0.835917
X-APPLE-STRUCTURED-LOCATION;VALUE=URI;X-ADDRESS=45 Denmark Street\, Wokingh
 am\, Berkshire\, RG40 2AY\, United Kingdom;X-APPLE-RADIUS=100;X-TITLE=The 
 Crispin:geo:51.408699,-0.835917
END:VEVENT
BEGIN:VTIMEZONE
TZID:Europe/London
X-LIC-LOCATION:Europe/London
BEGIN:DAYLIGHT
DTSTART:20260329T020000
TZOFFSETFROM:+0000
TZOFFSETTO:+0100
TZNAME:BST
END:DAYLIGHT
END:VTIMEZONE
END:VCALENDAR