BEGIN:VCALENDAR
VERSION:2.0
PRODID:-//wp-events-plugin.com//7.2.2.1//EN
BEGIN:VEVENT
UID:345@lovewokingham.co.uk
DTSTART;TZID=Europe/London:20230809T110000
DTEND;TZID=Europe/London:20230809T150000
DTSTAMP:20230731T210307Z
URL:https://www.lovewokingham.co.uk/events/bike-bonanza
SUMMARY:Bike Bonanza
DESCRIPTION:Cycling fun for youngsters
ATTACH;FMTTYPE=image/jpeg:https://www.lovewokingham.co.uk/wp-content/uploa
 ds/2023/07/bikeb-e1690837344614.jpg
CATEGORIES:Mailchimp Events
LOCATION:FBC Centre\, Gorse Ride N\, Finchampstead\, \, Wokingham\, RG40 4E
 S\, United Kingdom
X-APPLE-STRUCTURED-LOCATION;VALUE=URI;X-ADDRESS=Gorse Ride N\, Finchampstea
 d\, \, Wokingham\, RG40 4ES\, United Kingdom;X-APPLE-RADIUS=100;X-TITLE=FB
 C Centre:geo:0,0
END:VEVENT
BEGIN:VTIMEZONE
TZID:Europe/London
X-LIC-LOCATION:Europe/London
BEGIN:DAYLIGHT
DTSTART:20230326T020000
TZOFFSETFROM:+0000
TZOFFSETTO:+0100
TZNAME:BST
END:DAYLIGHT
END:VTIMEZONE
END:VCALENDAR