BEGIN:VCALENDAR
VERSION:2.0
PRODID:-//wp-events-plugin.com//7.2.2.1//EN
BEGIN:VEVENT
UID:742@lovewokingham.co.uk
DTSTART;TZID=Europe/London:20241219T193000
DTEND;TZID=Europe/London:20241219T213000
DTSTAMP:20241119T142217Z
URL:https://www.lovewokingham.co.uk/events/bingo-live-at-den-42
SUMMARY:Bingo LIVE at DEN 42
DESCRIPTION:Think Bingo but DEN 42 style. Add music\, prizes and games.\n\n
 Every third Thursday of the month
ATTACH;FMTTYPE=image/jpeg:https://www.lovewokingham.co.uk/wp-content/uploa
 ds/2024/11/DEN-42.png
CATEGORIES:Mailchimp Events
LOCATION:Den 42\, 2 The Plaza\, Denmark Street \, Wokingham\, RG40 2LD\, De
 nmark Street\, United Kingdom
GEO:51.409618;-0.83526
X-APPLE-STRUCTURED-LOCATION;VALUE=URI;X-ADDRESS=2 The Plaza\, Denmark Stree
 t \, Wokingham\, RG40 2LD\, Denmark Street\, United Kingdom;X-APPLE-RADIUS
 =100;X-TITLE=Den 42:geo:51.409618,-0.83526
END:VEVENT
BEGIN:VTIMEZONE
TZID:Europe/London
X-LIC-LOCATION:Europe/London
BEGIN:STANDARD
DTSTART:20241027T010000
TZOFFSETFROM:+0100
TZOFFSETTO:+0000
TZNAME:GMT
END:STANDARD
END:VTIMEZONE
END:VCALENDAR