BEGIN:VCALENDAR
VERSION:2.0
PRODID:-//wp-events-plugin.com//7.2.2.1//EN
BEGIN:VEVENT
UID:279@lovewokingham.co.uk
DTSTART;TZID=Europe/London:20230617T120000
DTEND;TZID=Europe/London:20230617T200000
DTSTAMP:20230518T095502Z
URL:https://www.lovewokingham.co.uk/events/bond-brews-8th-anniversary-beer
 -festival
SUMMARY:Bond Brews - 8th Anniversary Beer Festival
DESCRIPTION:Beers\, food & music!
ATTACH;FMTTYPE=image/jpeg:https://www.lovewokingham.co.uk/wp-content/uploa
 ds/2023/05/bond.jpg
CATEGORIES:Mailchimp Events
LOCATION:Bond Brews\, Heathlands Road\, Wokingham\, Berkshire\, RG40 3AS\, 
 England\, United Kingdom
GEO:51.387649;-0.816152
X-APPLE-STRUCTURED-LOCATION;VALUE=URI;X-ADDRESS=Heathlands Road\, Wokingham
 \, Berkshire\, RG40 3AS\, England\, United Kingdom;X-APPLE-RADIUS=100;X-TI
 TLE=Bond Brews:geo:51.387649,-0.816152
END:VEVENT
BEGIN:VTIMEZONE
TZID:Europe/London
X-LIC-LOCATION:Europe/London
BEGIN:DAYLIGHT
DTSTART:20230326T020000
TZOFFSETFROM:+0000
TZOFFSETTO:+0100
TZNAME:BST
END:DAYLIGHT
END:VTIMEZONE
END:VCALENDAR