BEGIN:VCALENDAR
VERSION:2.0
PRODID:-//wp-events-plugin.com//7.2.2.1//EN
BEGIN:VEVENT
UID:332@lovewokingham.co.uk
DTSTART;TZID=Europe/London:20230812T120000
DTEND;TZID=Europe/London:20230812T180000
DTSTAMP:20230730T142938Z
URL:https://www.lovewokingham.co.uk/events/bond-brews-august-tap-yard
SUMMARY:Bond Brews- August Tap Yard
DESCRIPTION:Get together with friends
ATTACH;FMTTYPE=image/jpeg:https://www.lovewokingham.co.uk/wp-content/uploa
 ds/2023/07/323785487_417414230575509_8138943453659912977_n-scaled.jpg
CATEGORIES:Mailchimp Events
LOCATION:Unit 3&4 South Barns\, Garneners Green Farm\, Heathlands Road\, Wo
 kingham\, United Kingdom
X-APPLE-STRUCTURED-LOCATION;VALUE=URI;X-ADDRESS=Garneners Green Farm\, Heat
 hlands Road\, Wokingham\, United Kingdom;X-APPLE-RADIUS=100;X-TITLE=Unit 3
 &4 South Barns:geo:0,0
END:VEVENT
BEGIN:VTIMEZONE
TZID:Europe/London
X-LIC-LOCATION:Europe/London
BEGIN:DAYLIGHT
DTSTART:20230326T020000
TZOFFSETFROM:+0000
TZOFFSETTO:+0100
TZNAME:BST
END:DAYLIGHT
END:VTIMEZONE
END:VCALENDAR