BEGIN:VCALENDAR
VERSION:2.0
PRODID:-//wp-events-plugin.com//7.2.2.1//EN
BEGIN:VEVENT
UID:967@lovewokingham.co.uk
DTSTART;TZID=Europe/London:20251206T090000
DTEND;TZID=Europe/London:20251206T113000
DTSTAMP:20251119T113507Z
URL:https://www.lovewokingham.co.uk/events/breakfast-with-santa-the-rose-i
 nn
SUMMARY:Breakfast with Santa - The Rose Inn
DESCRIPTION:Saturday 6th December 9am- 11.30am£15 per childBreakfast\, dri
 nk a visit from the man himself and a present from the elves
ATTACH;FMTTYPE=image/jpeg:https://www.lovewokingham.co.uk/wp-content/uploa
 ds/2025/11/558870422_1117366570574358_9085021503763597614_n.jpg
CATEGORIES:Mailchimp Events
LOCATION:The Rose Inn\, Market Place\, Wokingham\, Berkshire\, RG40 1AS\, U
 nited Kingdom
X-APPLE-STRUCTURED-LOCATION;VALUE=URI;X-ADDRESS=Market Place\, Wokingham\, 
 Berkshire\, RG40 1AS\, United Kingdom;X-APPLE-RADIUS=100;X-TITLE=The Rose 
 Inn:geo:0,0
END:VEVENT
BEGIN:VTIMEZONE
TZID:Europe/London
X-LIC-LOCATION:Europe/London
BEGIN:STANDARD
DTSTART:20251026T010000
TZOFFSETFROM:+0100
TZOFFSETTO:+0000
TZNAME:GMT
END:STANDARD
END:VTIMEZONE
END:VCALENDAR