BEGIN:VCALENDAR
VERSION:2.0
PRODID:-//wp-events-plugin.com//7.2.2.1//EN
BEGIN:VEVENT
UID:545@lovewokingham.co.uk
DTSTART;TZID=Europe/London:20240405T210000
DTEND;TZID=Europe/London:20240405T234500
DTSTAMP:20240329T185000Z
URL:https://www.lovewokingham.co.uk/events/broad-st-tavern-live-band-frida
 y
SUMMARY:Broad St Tavern Live Band Friday
DESCRIPTION:Every Friday from 9pm
ATTACH;FMTTYPE=image/jpeg:https://www.lovewokingham.co.uk/wp-content/uploa
 ds/2024/03/421927165_874960837962297_5684015990242174049_n.jpg
CATEGORIES:Mailchimp Events
LOCATION:Broad Street Tavern\, 29 Broad Street\, Wokingham\, Berkshire\, RG
 40 1AU\, Berkshire\, United Kingdom
X-APPLE-STRUCTURED-LOCATION;VALUE=URI;X-ADDRESS=29 Broad Street\, Wokingham
 \, Berkshire\, RG40 1AU\, Berkshire\, United Kingdom;X-APPLE-RADIUS=100;X-
 TITLE=Broad Street Tavern:geo:0,0
END:VEVENT
BEGIN:VTIMEZONE
TZID:Europe/London
X-LIC-LOCATION:Europe/London
BEGIN:DAYLIGHT
DTSTART:20240331T020000
TZOFFSETFROM:+0000
TZOFFSETTO:+0100
TZNAME:BST
END:DAYLIGHT
END:VTIMEZONE
END:VCALENDAR