BEGIN:VCALENDAR
VERSION:2.0
PRODID:-//wp-events-plugin.com//7.2.2.1//EN
BEGIN:VEVENT
UID:801@lovewokingham.co.uk
DTSTART;TZID=Europe/London:20250331T190000
DTEND;TZID=Europe/London:20250331T211500
DTSTAMP:20250226T150509Z
URL:https://www.lovewokingham.co.uk/events/brush-party-at-the-lord-raglan
SUMMARY:Brush Party at The Lord Raglan
DESCRIPTION:Join Brush Party\, the UK’s ‘Paint and Sip’ experts\, at 
 The Lord Raglan to paint our fabulous theme… ‘Tsuru Sunrise’\n\nGet 
 creative and experience a great night out that you’ll be talking about f
 or weeks!\n\nTickets £33: https://brushparty.co.uk/events/tsuru-sunrise-
 wokingham
ATTACH;FMTTYPE=image/jpeg:https://www.lovewokingham.co.uk/wp-content/uploa
 ds/2025/02/477117342_122210645240218586_8501105090684974542_n.jpg
CATEGORIES:Mailchimp Events
LOCATION:The Lord Raglan\, 30 Denmark Street\, Wokingham\, United Kingdom
GEO:51.408839;-0.835268
X-APPLE-STRUCTURED-LOCATION;VALUE=URI;X-ADDRESS=30 Denmark Street\, Wokingh
 am\, United Kingdom;X-APPLE-RADIUS=100;X-TITLE=The Lord Raglan:geo:51.4088
 39,-0.835268
END:VEVENT
BEGIN:VTIMEZONE
TZID:Europe/London
X-LIC-LOCATION:Europe/London
BEGIN:DAYLIGHT
DTSTART:20250330T020000
TZOFFSETFROM:+0000
TZOFFSETTO:+0100
TZNAME:BST
END:DAYLIGHT
END:VTIMEZONE
END:VCALENDAR