BEGIN:VCALENDAR
VERSION:2.0
PRODID:-//wp-events-plugin.com//7.2.2.1//EN
BEGIN:VEVENT
UID:278@lovewokingham.co.uk
DTSTART;TZID=Europe/London:20230612T190000
DTEND;TZID=Europe/London:20230612T220000
DTSTAMP:20230518T095029Z
URL:https://www.lovewokingham.co.uk/events/brush-party-at-the-ship
SUMMARY:Brush Party at The Ship
DESCRIPTION:Paint Summer Meadow
ATTACH;FMTTYPE=image/jpeg:https://www.lovewokingham.co.uk/wp-content/uploa
 ds/2023/05/343418646_914861973170188_6525279358345657060_n.jpg
CATEGORIES:Mailchimp Events
LOCATION:The Ship Inn\, 104 Peach St \, Wokingham \, Berkshire\, RG40 1XH\,
  United Kingdom
X-APPLE-STRUCTURED-LOCATION;VALUE=URI;X-ADDRESS=104 Peach St \, Wokingham \
 , Berkshire\, RG40 1XH\, United Kingdom;X-APPLE-RADIUS=100;X-TITLE=The Shi
 p Inn:geo:0,0
END:VEVENT
BEGIN:VTIMEZONE
TZID:Europe/London
X-LIC-LOCATION:Europe/London
BEGIN:DAYLIGHT
DTSTART:20230326T020000
TZOFFSETFROM:+0000
TZOFFSETTO:+0100
TZNAME:BST
END:DAYLIGHT
END:VTIMEZONE
END:VCALENDAR