BEGIN:VCALENDAR
VERSION:2.0
PRODID:-//wp-events-plugin.com//7.2.2.1//EN
BEGIN:VEVENT
UID:207@lovewokingham.co.uk
DTSTART;TZID=Europe/London:20230313T190000
DTEND;TZID=Europe/London:20230313T220000
DTSTAMP:20230228T102607Z
URL:https://www.lovewokingham.co.uk/events/brush-party-the-ship-inn
SUMMARY:Brush Party - The Ship Inn
DESCRIPTION:Theme is ‘Sakura Gardens’ 
ATTACH;FMTTYPE=image/jpeg:https://www.lovewokingham.co.uk/wp-content/uploa
 ds/2023/02/brush1.jpg
CATEGORIES:Mailchimp Events
LOCATION:The Ship Inn\, 104 Peach St \, Wokingham \, Berkshire\, RG40 1XH\,
  United Kingdom
X-APPLE-STRUCTURED-LOCATION;VALUE=URI;X-ADDRESS=104 Peach St \, Wokingham \
 , Berkshire\, RG40 1XH\, United Kingdom;X-APPLE-RADIUS=100;X-TITLE=The Shi
 p Inn:geo:0,0
END:VEVENT
BEGIN:VTIMEZONE
TZID:Europe/London
X-LIC-LOCATION:Europe/London
BEGIN:STANDARD
DTSTART:20221030T010000
TZOFFSETFROM:+0100
TZOFFSETTO:+0000
TZNAME:GMT
END:STANDARD
END:VTIMEZONE
END:VCALENDAR