BEGIN:VCALENDAR
VERSION:2.0
PRODID:-//wp-events-plugin.com//7.2.2.1//EN
BEGIN:VEVENT
UID:427@lovewokingham.co.uk
DTSTART;TZID=Europe/London:20231221T183000
DTEND;TZID=Europe/London:20231221T210000
DTSTAMP:20231129T125416Z
URL:https://www.lovewokingham.co.uk/events/carols-in-the-parlour
SUMMARY:Carols in the Parlour
DESCRIPTION:Acoustic carol singers in the parlour at The Rose Inn on Market
  Place.\nGet in the festive spirit and sing a long and enjoy mince pies &a
 mp\; mulled wine\nFrom 6:30pm\nEntry is first come first serve
ATTACH;FMTTYPE=image/jpeg:https://www.lovewokingham.co.uk/wp-content/uploa
 ds/2023/11/ChristmasCarols.jpg
CATEGORIES:Mailchimp Events
LOCATION:The Rose Inn\, Market Place\, Wokingham\, Berkshire\, RG40 1AS\, U
 nited Kingdom
X-APPLE-STRUCTURED-LOCATION;VALUE=URI;X-ADDRESS=Market Place\, Wokingham\, 
 Berkshire\, RG40 1AS\, United Kingdom;X-APPLE-RADIUS=100;X-TITLE=The Rose 
 Inn:geo:0,0
END:VEVENT
BEGIN:VTIMEZONE
TZID:Europe/London
X-LIC-LOCATION:Europe/London
BEGIN:STANDARD
DTSTART:20231029T010000
TZOFFSETFROM:+0100
TZOFFSETTO:+0000
TZNAME:GMT
END:STANDARD
END:VTIMEZONE
END:VCALENDAR