BEGIN:VCALENDAR
VERSION:2.0
PRODID:-//wp-events-plugin.com//7.2.2.1//EN
BEGIN:VEVENT
UID:797@lovewokingham.co.uk
DTSTART;TZID=Europe/London:20250313T183000
DTEND;TZID=Europe/London:20250313T234500
DTSTAMP:20250301T120057Z
URL:https://www.lovewokingham.co.uk/events/casa-tropicana-at-salty-olive
SUMMARY:Casa Tropicana at Salty Olive
DESCRIPTION:Bringing a taste of Ibiza to Wokingham with music from DJ Zoe J
 \, Tolly on Sax &amp\; Two Minute Turkish.\n\nEnjoy their signature cockta
 ils and delicious fresh tapas.. and don't forget your dancing shoes!\n\nTi
 ckets:\n\nEarly bird ticket - £8 per guest (first 25 tickets sold)\nStand
 ard ticket - £12 per guest\nGroup ticket - £35 for 4 guests\nVIP Booth t
 icket - £55 up to 6 guests (only 4 booths available)\nTickets will sell f
 ast\, so don't delay - it'll be a party to remember! https://www.sevenroom
 s.com/events/saltyolive
ATTACH;FMTTYPE=image/jpeg:https://www.lovewokingham.co.uk/wp-content/uploa
 ds/2025/02/Casa-Tropicana-Socials-1.png
CATEGORIES:Mailchimp Events
LOCATION:Salty Olive\, 5 Elms Rd\, Wokingham \, Berkshire\, RG40 2FE\, Unit
 ed Kingdom
X-APPLE-STRUCTURED-LOCATION;VALUE=URI;X-ADDRESS=5 Elms Rd\, Wokingham \, Be
 rkshire\, RG40 2FE\, United Kingdom;X-APPLE-RADIUS=100;X-TITLE=Salty Olive
 :geo:0,0
END:VEVENT
BEGIN:VTIMEZONE
TZID:Europe/London
X-LIC-LOCATION:Europe/London
BEGIN:STANDARD
DTSTART:20241027T010000
TZOFFSETFROM:+0100
TZOFFSETTO:+0000
TZNAME:GMT
END:STANDARD
END:VTIMEZONE
END:VCALENDAR