BEGIN:VCALENDAR
VERSION:2.0
PRODID:-//wp-events-plugin.com//7.2.2.1//EN
BEGIN:VEVENT
UID:962@lovewokingham.co.uk
DTSTART;TZID=Europe/London:20251218T190000
DTEND;TZID=Europe/London:20251218T230000
DTSTAMP:20251119T111046Z
URL:https://www.lovewokingham.co.uk/events/champagne-wine-dinner-party-wit
 h-drappier
SUMMARY:Champagne & Wine Dinner Party with Drappier
DESCRIPTION:The Chalk Wine Club was created to celebrate community\, to toa
 st to our shared love for good food\, good wine\, and good company. These 
 extraordinary\, multiple-course meals or tastings are always themed around
  a wine\, season or cultural experience.\nJoin us for an intimate and excl
 usive Drappier Champagne Dinner hosted by Rohan Anderson of Drappier Champ
 agne. Featuring a curated menu paired with a selection of exquisite Drappi
 er Champagnes.\nFrom the crisp Brut Nature to the elegant Carte D’or\, e
 ach Champagne will enhance the flavours of the accompanying dishes\, creat
 ing a truly memorable dining experience.\nWhat's included:\n- Glass of Cha
 mpagne- Seven-Course Tasting Menu- Accompanied Champagne Flight- Tea\, Cof
 fee &amp\; Bouchons De Champagne En Chocolat- Guests Speaker\nAll wines fr
 om the evening can be bought at a retail price.\nPriced at £100 per perso
 n. https://www.chalkrestaurants.com/wokingham/events/seven-centuries-late
 r
ATTACH;FMTTYPE=image/jpeg:https://www.lovewokingham.co.uk/wp-content/uploa
 ds/2025/11/579012250_1405436551583889_4731444380051721822_n.jpg
CATEGORIES:Mailchimp Events
LOCATION:Chalk Restaurant\, 31 Broad Street\, Wokingham\, RG40 1AU\, United
  Kingdom
GEO:51.411464;-0.835379
X-APPLE-STRUCTURED-LOCATION;VALUE=URI;X-ADDRESS=31 Broad Street\, Wokingham
 \, RG40 1AU\, United Kingdom;X-APPLE-RADIUS=100;X-TITLE=Chalk Restaurant:g
 eo:51.411464,-0.835379
END:VEVENT
BEGIN:VTIMEZONE
TZID:Europe/London
X-LIC-LOCATION:Europe/London
BEGIN:STANDARD
DTSTART:20251026T010000
TZOFFSETFROM:+0100
TZOFFSETTO:+0000
TZNAME:GMT
END:STANDARD
END:VTIMEZONE
END:VCALENDAR