BEGIN:VCALENDAR
VERSION:2.0
PRODID:-//wp-events-plugin.com//7.2.2.1//EN
BEGIN:VEVENT
UID:587@lovewokingham.co.uk
DTSTART;TZID=Europe/London:20240509T190000
DTEND;TZID=Europe/London:20240509T220000
DTSTAMP:20240430T172851Z
URL:https://www.lovewokingham.co.uk/events/chefs-table-at-hamlet
SUMMARY:Chefs Table at Hamlet
DESCRIPTION:\nFor a behind-the-scenes dining experience created to give gue
 sts a closer insight into the philosophy that Hamlet’s kitchen has been 
 built on.\nAccommodating up to 6 guests a bespoke menu will be served to y
 ou by the chefs with staff on hand to offer wine pairings.\n\nA discretion
 ary 12.5% service charge will be added to the bill at the end of the meal\
 n\n\n\n£85 per ticket https://www.exploretock.com/hamlet\n\nOther Chefs 
 Tables are availabe throughout May. Please check their website for further
  details.
ATTACH;FMTTYPE=image/jpeg:https://www.lovewokingham.co.uk/wp-content/uploa
 ds/2024/04/chefstable.png
CATEGORIES:Mailchimp Events
LOCATION:Hamlet\, 10 Peach Place\, Wokingham\, Berkshire\, RG40 1LY\, Unite
 d Kingdom
GEO:51.410558;-0.832244
X-APPLE-STRUCTURED-LOCATION;VALUE=URI;X-ADDRESS=10 Peach Place\, Wokingham\
 , Berkshire\, RG40 1LY\, United Kingdom;X-APPLE-RADIUS=100;X-TITLE=Hamlet:
 geo:51.410558,-0.832244
END:VEVENT
BEGIN:VTIMEZONE
TZID:Europe/London
X-LIC-LOCATION:Europe/London
BEGIN:DAYLIGHT
DTSTART:20240331T020000
TZOFFSETFROM:+0000
TZOFFSETTO:+0100
TZNAME:BST
END:DAYLIGHT
END:VTIMEZONE
END:VCALENDAR