BEGIN:VCALENDAR
VERSION:2.0
PRODID:-//wp-events-plugin.com//7.2.2.1//EN
BEGIN:VEVENT
UID:976@lovewokingham.co.uk
DTSTART;TZID=Europe/London:20251207T150000
DTEND;TZID=Europe/London:20251207T161500
DTSTAMP:20251125T102958Z
URL:https://www.lovewokingham.co.uk/events/childrens-christmas-concert
SUMMARY:Children's Christmas Concert
DESCRIPTION:Woodley Concert Band invites you to their Christmas concerts on
  Sunday 7th December at the Harriet Walter Theatre\, Reddam House School\,
  Sindlesham.\n\nAt 3:00pm\, their Children's Christmas Concert - an hour o
 f fun which is a huge hit with families\, selling out for the last 2 years
 .\n\nThere'll be plenty of opportunities to join in with shaking\, jinglin
 g and singing. Tickets are £10 for adults and £5 for under 16s.\n\nThen\
 , at 7:00pm\, we have our full-length concert. There'll be great arrangeme
 nts of popular festive music\, cosy fireside winter warmers\, audience car
 ols and more than a hint of fun! Tickets are £15/£13 over 65 and £5 for
  under 16.\n\nThere are also FREE TICKETS for the evening concert through 
 the WCB First Timers Scheme for those who have never been to a WCB concert
  before.\n\nYou can find full information about both concerts and book you
 r seats on our website here: http://www.woodleyconcertband.org.uk
ATTACH;FMTTYPE=image/jpeg:https://www.lovewokingham.co.uk/wp-content/uploa
 ds/2025/11/2025-Christmas-Concert-Posters-both-concerts-e1764066505313.jpg
CATEGORIES:Mailchimp Events
LOCATION:Reddam\, Bearwood Road\, Sindlesham\, Wokingham\, RG41 5BG\, Unite
 d Kingdom
X-APPLE-STRUCTURED-LOCATION;VALUE=URI;X-ADDRESS=Bearwood Road\, Sindlesham\
 , Wokingham\, RG41 5BG\, United Kingdom;X-APPLE-RADIUS=100;X-TITLE=Reddam:
 geo:0,0
END:VEVENT
BEGIN:VTIMEZONE
TZID:Europe/London
X-LIC-LOCATION:Europe/London
BEGIN:STANDARD
DTSTART:20251026T010000
TZOFFSETFROM:+0100
TZOFFSETTO:+0000
TZNAME:GMT
END:STANDARD
END:VTIMEZONE
END:VCALENDAR