BEGIN:VCALENDAR
VERSION:2.0
PRODID:-//wp-events-plugin.com//7.2.2.1//EN
BEGIN:VEVENT
UID:1034@lovewokingham.co.uk
DTSTART;TZID=Europe/London:20260523T100000
DTEND;TZID=Europe/London:20260523T160000
DTSTAMP:20260305T102916Z
URL:https://www.lovewokingham.co.uk/events/childrens-fun-day-3
SUMMARY:Children's Fun Day
DESCRIPTION:There's lots going on at the Children’s Fun Day this year. In
 cluding fairground rides\, farm animal meet &amp\; greet\, face painting\,
  go kart rides\, wonderful birds of prey\, hands on arts and crafts and mu
 ch more! All activities are FREE\nCome for a few hours or bring a picnic a
 nd stay all day.\nThe 1st Winnersh Scouts will be running a BBQ with both 
 meat and vegetarian options\, Easy Squeezy Lemonade will be on site\, and 
 Sir Whippy will be on hand serving ice cream.\nSun hats and sun cream will
  hopefully be required!\nPerfect for children 10 years and under. Sponsore
 d and organised by Wokingham Town Council.\nFurther details: http://www.w
 okingham-tc.gov.uk/funday\n\nPlease park in one of the main town car parks
  a few minutes walk away.
ATTACH;FMTTYPE=image/jpeg:https://www.lovewokingham.co.uk/wp-content/uploa
 ds/2025/04/486427554_975524591432193_8574594335428804820_n.jpg
CATEGORIES:Mailchimp Events
LOCATION:Langborough Recreation Ground\, Langborough Road\, Wokingham\, Ber
 kshire\, RG40 2BS\, United Kingdom
GEO:51.407628;-0.833883
X-APPLE-STRUCTURED-LOCATION;VALUE=URI;X-ADDRESS=Langborough Road\, Wokingha
 m\, Berkshire\, RG40 2BS\, United Kingdom;X-APPLE-RADIUS=100;X-TITLE=Langb
 orough Recreation Ground:geo:51.407628,-0.833883
END:VEVENT
BEGIN:VTIMEZONE
TZID:Europe/London
X-LIC-LOCATION:Europe/London
BEGIN:DAYLIGHT
DTSTART:20260329T020000
TZOFFSETFROM:+0000
TZOFFSETTO:+0100
TZNAME:BST
END:DAYLIGHT
END:VTIMEZONE
END:VCALENDAR