BEGIN:VCALENDAR
VERSION:2.0
PRODID:-//wp-events-plugin.com//7.2.2.1//EN
BEGIN:VEVENT
UID:519@lovewokingham.co.uk
DTSTART;TZID=Europe/London:20241207T130000
DTEND;TZID=Europe/London:20241207T143000
DTSTAMP:20241114T105417Z
URL:https://www.lovewokingham.co.uk/events/christmas-charity-music-afterno
 on
SUMMARY:Christmas Charity Music Afternoon
DESCRIPTION:Come and join us at the Town Hall for a Christmas sing-a-long w
 ith mulled wine and mince pies.\nWith Woodley Concert Band\, Soloist Marti
 n Butler\, Kryla Ukrainian Choir\, George &amp\; James piano duet\, Woking
 ham Choral Society\n\nOrganised by morearts. Donations welcome on the day 
 to the Mayor's charity SHARE Wokingham.\n
ATTACH;FMTTYPE=image/jpeg:https://www.lovewokingham.co.uk/wp-content/uploa
 ds/2024/02/music-sheet-7648933_1280.jpg
CATEGORIES:Mailchimp Events
LOCATION:Wokingham Town Hall\, Market Place\, Wokingham\, Berkshire\, RG40 
 1AS\, United Kingdom
X-APPLE-STRUCTURED-LOCATION;VALUE=URI;X-ADDRESS=Market Place\, Wokingham\, 
 Berkshire\, RG40 1AS\, United Kingdom;X-APPLE-RADIUS=100;X-TITLE=Wokingham
  Town Hall:geo:0,0
END:VEVENT
BEGIN:VTIMEZONE
TZID:Europe/London
X-LIC-LOCATION:Europe/London
BEGIN:STANDARD
DTSTART:20241027T010000
TZOFFSETFROM:+0100
TZOFFSETTO:+0000
TZNAME:GMT
END:STANDARD
END:VTIMEZONE
END:VCALENDAR