BEGIN:VCALENDAR
VERSION:2.0
PRODID:-//wp-events-plugin.com//7.2.2.1//EN
BEGIN:VEVENT
UID:970@lovewokingham.co.uk
DTSTART;TZID=Europe/London:20251213T183000
DTEND;TZID=Europe/London:20251213T200000
DTSTAMP:20251119T120339Z
URL:https://www.lovewokingham.co.uk/events/christmas-concert-carols-and-me
 ssiah-choruses
SUMMARY:Christmas Concert: Carols and Messiah Choruses
DESCRIPTION:Wokingham Choral Society present their Christmas Concert.\n\nTh
 e programme will be a harmonious mix of old and new carols\, and uplifting
  choruses from Handel's Messiah\, all performed with a tuneful choral flav
 our\, under the professional baton of George de Voil and accompanied\, on
  organ. by the very talented Iestin Evans.\n\nTickets Adults £12\, u18 
 £5\, u5 free https://www.ticketsource.co.uk/wokingham-choral-society
ATTACH;FMTTYPE=image/jpeg:https://www.lovewokingham.co.uk/wp-content/uploa
 ds/2025/11/Christmas_2025_website_banner_1.png
CATEGORIES:Mailchimp Events
LOCATION:All Saints Church\, Wiltshire Road\, Wokingham\, Berkshire\, RG401
 TN\, United Kingdom
GEO:51.412502;-0.829743
X-APPLE-STRUCTURED-LOCATION;VALUE=URI;X-ADDRESS=Wiltshire Road\, Wokingham\
 , Berkshire\, RG401TN\, United Kingdom;X-APPLE-RADIUS=100;X-TITLE=All Sain
 ts Church:geo:51.412502,-0.829743
END:VEVENT
BEGIN:VTIMEZONE
TZID:Europe/London
X-LIC-LOCATION:Europe/London
BEGIN:STANDARD
DTSTART:20251026T010000
TZOFFSETFROM:+0100
TZOFFSETTO:+0000
TZNAME:GMT
END:STANDARD
END:VTIMEZONE
END:VCALENDAR