BEGIN:VCALENDAR
VERSION:2.0
PRODID:-//wp-events-plugin.com//7.2.2.1//EN
BEGIN:VEVENT
UID:977@lovewokingham.co.uk
DTSTART;TZID=Europe/London:20251207T190000
DTEND;TZID=Europe/London:20251207T203000
DTSTAMP:20251125T103402Z
URL:https://www.lovewokingham.co.uk/events/christmas-concert
SUMMARY:Christmas Concert
DESCRIPTION:Woodley Concert Band invites you to their Christmas concerts on
  Sunday 7th December at the Harriet Walter Theatre\, Reddam House School\,
  Sindlesham.\n\nAt 7:00pm\, they have their main concert popular festive m
 usic\, cosy fireside winter warmers\, audience carols and more than a hint
  of fun! Tickets are £15/£13 over 65 and £5 for under 16.\n\nThere are 
 also FREE TICKETS for the evening concert through the WCB First Timers Sch
 eme for those who have never been to a WCB concert before.\n\nYou can find
  full information about both concerts and book your seats on our website h
 ere: http://www.woodleyconcertband.org.uk\n\nThey also have a Children's 
 Concert at 3pm that day: an hour of fun which is a huge hit with families.
  There'll be plenty of opportunities to join in with shaking\, jingling a
 nd singing. Tickets are £10 for adults and £5 for under 16s.
ATTACH;FMTTYPE=image/jpeg:https://www.lovewokingham.co.uk/wp-content/uploa
 ds/2025/11/2025-Christmas-Concert-Posters-both-concerts-1-e1764066824133.j
 pg
CATEGORIES:Mailchimp Events
LOCATION:Reddam\, Bearwood Road\, Sindlesham\, Wokingham\, RG41 5BG\, Unite
 d Kingdom
X-APPLE-STRUCTURED-LOCATION;VALUE=URI;X-ADDRESS=Bearwood Road\, Sindlesham\
 , Wokingham\, RG41 5BG\, United Kingdom;X-APPLE-RADIUS=100;X-TITLE=Reddam:
 geo:0,0
END:VEVENT
BEGIN:VTIMEZONE
TZID:Europe/London
X-LIC-LOCATION:Europe/London
BEGIN:STANDARD
DTSTART:20251026T010000
TZOFFSETFROM:+0100
TZOFFSETTO:+0000
TZNAME:GMT
END:STANDARD
END:VTIMEZONE
END:VCALENDAR