BEGIN:VCALENDAR
VERSION:2.0
PRODID:-//wp-events-plugin.com//7.2.2.1//EN
BEGIN:VEVENT
UID:182@lovewokingham.co.uk
DTSTART;TZID=Europe/London:20230105T193000
DTEND;TZID=Europe/London:20230105T213000
DTSTAMP:20221220T175117Z
URL:https://www.lovewokingham.co.uk/events/come-sing
SUMMARY:Come Sing...
DESCRIPTION:Wokingham Choral Society welcome you to come along to an open r
 ehearsal on Thursday 5th January at Emmbrook SEcondary School\n\nAll are w
 elcome. Rehearsal runs 7.30 to 9.45pm\n\nThey will be practicing for their
  next concert in March. Wiorks from Vivaldi\, Pergolesi and Monteverdi.
ATTACH;FMTTYPE=image/jpeg:https://www.lovewokingham.co.uk/wp-content/uploa
 ds/2022/12/Come-and-Sing-5th-Jan-2023_sd-scaled.jpg
CATEGORIES:Mailchimp Events
LOCATION:Emmbrook Secondary School\, Emmbrook Road\, Wokingham\, RG41 1JP\,
  United Kingdom
X-APPLE-STRUCTURED-LOCATION;VALUE=URI;X-ADDRESS=Emmbrook Road\, Wokingham\,
  RG41 1JP\, United Kingdom;X-APPLE-RADIUS=100;X-TITLE=Emmbrook Secondary S
 chool:geo:0,0
END:VEVENT
BEGIN:VTIMEZONE
TZID:Europe/London
X-LIC-LOCATION:Europe/London
BEGIN:STANDARD
DTSTART:20221030T010000
TZOFFSETFROM:+0100
TZOFFSETTO:+0000
TZNAME:GMT
END:STANDARD
END:VTIMEZONE
END:VCALENDAR