BEGIN:VCALENDAR
VERSION:2.0
PRODID:-//wp-events-plugin.com//7.2.2.1//EN
BEGIN:VEVENT
UID:629@lovewokingham.co.uk
DTSTART;TZID=Europe/London:20241003T200000
DTEND;TZID=Europe/London:20241003T223000
DTSTAMP:20240606T111155Z
URL:https://www.lovewokingham.co.uk/events/comedy-at-the-chocolate-cafe-4
SUMMARY:Comedy at The Chocolate Cafe
DESCRIPTION:Comedy returns to the Grange Cafe Wokingham in Holme Grange Cra
 ft Village\nWe've got a line up that includes both acts seen on TV and Awa
 rd Winning Comedians. Plus a licensed bar\, and cake!\nHeadliner Nathan Ca
 ton - Live at the Apollo\nOpener Kate Martin - Award Winning Comedian\nPlu
 s Support\,\nAll held together by Laughter Craft Comedy's Jonathan Elston 
 "A comic with incredible Talent" the Guardian\nLine up subject to chang\nT
 ickets £14.30 https://www.wegottickets.com/event/619057
ATTACH;FMTTYPE=image/jpeg:https://www.lovewokingham.co.uk/wp-content/uploa
 ds/2024/06/oct.jpg
CATEGORIES:Mailchimp Events
LOCATION:Holme Grange Craft Village\, Heathlands Road\, Wokingham\, Berkshi
 re\, United Kingdom
X-APPLE-STRUCTURED-LOCATION;VALUE=URI;X-ADDRESS=Heathlands Road\, Wokingham
 \, Berkshire\, United Kingdom;X-APPLE-RADIUS=100;X-TITLE=Holme Grange Craf
 t Village:geo:0,0
END:VEVENT
BEGIN:VTIMEZONE
TZID:Europe/London
X-LIC-LOCATION:Europe/London
BEGIN:DAYLIGHT
DTSTART:20240331T020000
TZOFFSETFROM:+0000
TZOFFSETTO:+0100
TZNAME:BST
END:DAYLIGHT
END:VTIMEZONE
END:VCALENDAR