BEGIN:VCALENDAR
VERSION:2.0
PRODID:-//wp-events-plugin.com//7.2.2.1//EN
BEGIN:VEVENT
UID:148@lovewokingham.co.uk
DTSTART;TZID=Europe/London:20221117T193000
DTEND;TZID=Europe/London:20221117T230000
DTSTAMP:20221103T121457Z
URL:https://www.lovewokingham.co.uk/events/compartment-wokingham-film-soci
 ety
SUMMARY:Compartment - Wokingham Film Society
DESCRIPTION:Wonderful human warmth and humour
ATTACH;FMTTYPE=image/jpeg:https://www.lovewokingham.co.uk/wp-content/uploa
 ds/2022/11/MV5BY2IwNjVlMDEtNjI4OC00ZTBiLTliMTYtODdkZmI0ZDA5MDM4XkEyXkFqcGd
 eQXVyMzg5NDc1OTU@._V1_.jpg
CATEGORIES:Mailchimp Events
LOCATION:The Whitty Theatre\, Luckley Road\, Wokingham\, Berkshire\, RG403E
 U\, United Kingdom
GEO:51.398838;-0.839821
X-APPLE-STRUCTURED-LOCATION;VALUE=URI;X-ADDRESS=Luckley Road\, Wokingham\, 
 Berkshire\, RG403EU\, United Kingdom;X-APPLE-RADIUS=100;X-TITLE=The Whitty
  Theatre:geo:51.398838,-0.839821
END:VEVENT
BEGIN:VTIMEZONE
TZID:Europe/London
X-LIC-LOCATION:Europe/London
BEGIN:STANDARD
DTSTART:20221030T010000
TZOFFSETFROM:+0100
TZOFFSETTO:+0000
TZNAME:GMT
END:STANDARD
END:VTIMEZONE
END:VCALENDAR