BEGIN:VCALENDAR
VERSION:2.0
PRODID:-//wp-events-plugin.com//7.2.2.1//EN
BEGIN:VEVENT
UID:272@lovewokingham.co.uk
DTSTART;TZID=Europe/London:20230506T190000
DTEND;TZID=Europe/London:20230506T220000
DTSTAMP:20230430T191946Z
URL:https://www.lovewokingham.co.uk/events/coronation-evening-at-the-two-p
 oplars
SUMMARY:Coronation evening at the Two Poplars
DESCRIPTION:"The Beatle & Buddy Show"
ATTACH;FMTTYPE=image/jpeg:https://www.lovewokingham.co.uk/wp-content/uploa
 ds/2023/04/340949492_3572394099665021_8693113850331521563_n.jpg
CATEGORIES:Mailchimp Events
LOCATION:Two Poplars\, 118 Finchampstead Rd\, Wokingham\, RG41 2NU\, United
  Kingdom
X-APPLE-STRUCTURED-LOCATION;VALUE=URI;X-ADDRESS=118 Finchampstead Rd\, Woki
 ngham\, RG41 2NU\, United Kingdom;X-APPLE-RADIUS=100;X-TITLE=Two Poplars:g
 eo:0,0
END:VEVENT
BEGIN:VTIMEZONE
TZID:Europe/London
X-LIC-LOCATION:Europe/London
BEGIN:DAYLIGHT
DTSTART:20230326T020000
TZOFFSETFROM:+0000
TZOFFSETTO:+0100
TZNAME:BST
END:DAYLIGHT
END:VTIMEZONE
END:VCALENDAR