BEGIN:VCALENDAR
VERSION:2.0
PRODID:-//wp-events-plugin.com//7.2.2.1//EN
BEGIN:VEVENT
UID:826@lovewokingham.co.uk
DTSTART;TZID=Europe/London:20250405T090000
DTEND;TZID=Europe/London:20250405T133000
DTSTAMP:20250327T103820Z
URL:https://www.lovewokingham.co.uk/events/date-with-nature-at-dinton
SUMMARY:Date with Nature at Dinton
DESCRIPTION:A three and a half hour walk around Dinton Pastures and Lavell'
 s Lake\, suitable for all ages. Visits to bird hides are included\; bring 
 binoculars if you have them.\nMeet: Dinton Pastures Country Park. Meet in 
 the main car park near the café (postcode RG10 0TH).Price: £2 donation t
 o the RSPB - cash or card payment. Free for children and Under 25s. Parkin
 g fee also applies\, £9.20 for 4 hours.\nPhoto: Little Grebe by Anna Bail
 ey
ATTACH;FMTTYPE=image/jpeg:https://www.lovewokingham.co.uk/wp-content/uploa
 ds/2025/03/485148774_979968677650357_7089447209587269735_n.jpg
CATEGORIES:Mailchimp Events
LOCATION:Dinton Pastures Country Park\,\, Davis Street\, Hurst\, Wokingham\
 , RG10 0TH\, United Kingdom
GEO:51.442424;-0.867744
X-APPLE-STRUCTURED-LOCATION;VALUE=URI;X-ADDRESS=Davis Street\, Hurst\, Woki
 ngham\, RG10 0TH\, United Kingdom;X-APPLE-RADIUS=100;X-TITLE=Dinton Pastur
 es Country Park\,:geo:51.442424,-0.867744
END:VEVENT
BEGIN:VTIMEZONE
TZID:Europe/London
X-LIC-LOCATION:Europe/London
BEGIN:DAYLIGHT
DTSTART:20250330T020000
TZOFFSETFROM:+0000
TZOFFSETTO:+0100
TZNAME:BST
END:DAYLIGHT
END:VTIMEZONE
END:VCALENDAR