BEGIN:VCALENDAR
VERSION:2.0
PRODID:-//wp-events-plugin.com//7.2.2.1//EN
BEGIN:VEVENT
UID:88@lovewokingham.co.uk
DTSTART;TZID=Europe/London:20211004T123000
DTEND;TZID=Europe/London:20211004T140000
DTSTAMP:20210930T161419Z
URL:https://www.lovewokingham.co.uk/events/dementia-friendly-tea-dance
SUMMARY:Dementia Friendly Tea Dance
DESCRIPTION:\nThis will run on the first Monday of every month\n\n\nThe nex
 t tea dance takes place next Monday at Cantley Park in the cafe building\n
 \n\nCome along to meet new friends and dance\n\n\nBook now at preventiont
 eam@wokingham.gov.uk or call 0118 974 2728\n
ATTACH;FMTTYPE=image/jpeg:https://www.lovewokingham.co.uk/wp-content/uploa
 ds/2021/09/teadance.jpg
CATEGORIES:Mailchimp Events
LOCATION:Cantley Playing Fields\, Twyford Road\, Wokingham\, Berkshire\, RG
 40 5QG\, England\, United Kingdom
GEO:51.42147;-0.840813
X-APPLE-STRUCTURED-LOCATION;VALUE=URI;X-ADDRESS=Twyford Road\, Wokingham\, 
 Berkshire\, RG40 5QG\, England\, United Kingdom;X-APPLE-RADIUS=100;X-TITLE
 =Cantley Playing Fields:geo:51.42147,-0.840813
END:VEVENT
BEGIN:VTIMEZONE
TZID:Europe/London
X-LIC-LOCATION:Europe/London
BEGIN:DAYLIGHT
DTSTART:20210328T020000
TZOFFSETFROM:+0000
TZOFFSETTO:+0100
TZNAME:BST
END:DAYLIGHT
END:VTIMEZONE
END:VCALENDAR