BEGIN:VCALENDAR
VERSION:2.0
PRODID:-//wp-events-plugin.com//7.2.2.1//EN
BEGIN:VEVENT
UID:731@lovewokingham.co.uk
DTSTART;TZID=Europe/London:20241204T190000
DTEND;TZID=Europe/London:20241204T210000
DTSTAMP:20241114T103229Z
URL:https://www.lovewokingham.co.uk/events/dine-sip-paint
SUMMARY:Dine\, Sip & Paint
DESCRIPTION:Social at Salty Olive from 7-9pm\, fortnightly.\n\nThis session
  you will design your own Christmas cards!\n\nRelax\, paint\, chat\, sip a
 nd enjoy! What could be better mid-week.\n\n£15 per session\, all materia
 ls included\n\nDrink and food available to purchase separately during the 
 session\, or stay for dinner afterwards.\n\nLimited spaces so request your
  place and we'll be in touch! https://www.sevenrooms.com/events/saltyoliv
 e\n\n&nbsp\;
ATTACH;FMTTYPE=image/jpeg:https://www.lovewokingham.co.uk/wp-content/uploa
 ds/2024/11/saltypaint.png
CATEGORIES:Mailchimp Events
LOCATION:Salty Olive\, Unit 5\, Elms Field\, Wokingham\, Berkshire\, RG40 2
 EZ\, United Kingdom
GEO:51.40952;-0.837564
X-APPLE-STRUCTURED-LOCATION;VALUE=URI;X-ADDRESS=Unit 5\, Elms Field\, Wokin
 gham\, Berkshire\, RG40 2EZ\, United Kingdom;X-APPLE-RADIUS=100;X-TITLE=Sa
 lty Olive:geo:51.40952,-0.837564
END:VEVENT
BEGIN:VTIMEZONE
TZID:Europe/London
X-LIC-LOCATION:Europe/London
BEGIN:STANDARD
DTSTART:20241027T010000
TZOFFSETFROM:+0100
TZOFFSETTO:+0000
TZNAME:GMT
END:STANDARD
END:VTIMEZONE
END:VCALENDAR