BEGIN:VCALENDAR
VERSION:2.0
PRODID:-//wp-events-plugin.com//7.2.2.1//EN
BEGIN:VEVENT
UID:963@lovewokingham.co.uk
DTSTART;TZID=Europe/London:20251214T103000
DTEND;TZID=Europe/London:20251214T120000
DTSTAMP:20251119T111843Z
URL:https://www.lovewokingham.co.uk/events/dinton-santa-dash-3
SUMMARY:Dinton Santa Dash
DESCRIPTION:Now in it's 9th year\, the Dinton Santa Dash at Dinton Pastures
  Country Park is becoming an annual tradition with many families and is a 
 great way to be active during the frantic festive season.\nAs always\, the
 y are supporting First Days Children’s Charity with £2 of every entry b
 eing donated direct to them. This money will have a direct impact on local
  children\, by providing a nice warm bed to sleep in this winter. Every £
 120 raised will buy a complete bed for a child\; frame\, mattress\, duvet 
 &amp\; two pillows and linen.\n\nStart time of 10.30 and 11am available\n\
 nBy Barnes Fitness\n\nRegister: https://barnes-fitness.atwevents.co.uk/e/
 dinton-santa-dash-2km-and-5km-11750
ATTACH;FMTTYPE=image/jpeg:https://www.lovewokingham.co.uk/wp-content/uploa
 ds/2025/11/494370420_978494077602344_6062828267555818816_n.jpg
CATEGORIES:Mailchimp Events
LOCATION:Dinton Pastures Country Park\,\, Davis Street\, Hurst\, Wokingham\
 , RG10 0TH\, United Kingdom
GEO:51.442424;-0.867744
X-APPLE-STRUCTURED-LOCATION;VALUE=URI;X-ADDRESS=Davis Street\, Hurst\, Woki
 ngham\, RG10 0TH\, United Kingdom;X-APPLE-RADIUS=100;X-TITLE=Dinton Pastur
 es Country Park\,:geo:51.442424,-0.867744
END:VEVENT
BEGIN:VTIMEZONE
TZID:Europe/London
X-LIC-LOCATION:Europe/London
BEGIN:STANDARD
DTSTART:20251026T010000
TZOFFSETFROM:+0100
TZOFFSETTO:+0000
TZNAME:GMT
END:STANDARD
END:VTIMEZONE
END:VCALENDAR