BEGIN:VCALENDAR
VERSION:2.0
PRODID:-//wp-events-plugin.com//7.2.2.1//EN
BEGIN:VEVENT
UID:153@lovewokingham.co.uk
DTSTART;TZID=Europe/London:20221205T180000
DTEND;TZID=Europe/London:20221205T191500
DTSTAMP:20221130T122051Z
URL:https://www.lovewokingham.co.uk/events/dressing-the-christmas-tree
SUMMARY:Dressing the Christmas Tree
DESCRIPTION:Featuring carols from Wokingham Choral Society
ATTACH;FMTTYPE=image/jpeg:https://www.lovewokingham.co.uk/wp-content/uploa
 ds/2022/11/316407778_447269657591025_8413891495958204039_n.jpg
CATEGORIES:Mailchimp Events
LOCATION:Wokingham Market Place\, Market Place\, Wokingham \, Berkshire\, R
 G40 1AS\, United Kingdom
X-APPLE-STRUCTURED-LOCATION;VALUE=URI;X-ADDRESS=Market Place\, Wokingham \,
  Berkshire\, RG40 1AS\, United Kingdom;X-APPLE-RADIUS=100;X-TITLE=Wokingha
 m Market Place:geo:0,0
END:VEVENT
BEGIN:VTIMEZONE
TZID:Europe/London
X-LIC-LOCATION:Europe/London
BEGIN:STANDARD
DTSTART:20221030T010000
TZOFFSETFROM:+0100
TZOFFSETTO:+0000
TZNAME:GMT
END:STANDARD
END:VTIMEZONE
END:VCALENDAR