BEGIN:VCALENDAR
VERSION:2.0
PRODID:-//wp-events-plugin.com//7.2.2.1//EN
BEGIN:VEVENT
UID:175@lovewokingham.co.uk
DTSTART;TZID=Europe/London:20230120T193000
DTEND;TZID=Europe/London:20230120T223000
DTSTAMP:20221220T163832Z
URL:https://www.lovewokingham.co.uk/events/dsuks-on-another-night-show
SUMMARY:DS:UK’s ON anoTHEr NIGHT show
DESCRIPTION:Wokingham Music Clib presents The ON anoTHEr NIGHT show\n\nThe 
 ON anoTHEr NIGHT show is DS:UK’s third tour\, representing the\nfinal er
 a of Dire Straits’ phenomenal career\, and brings a genuine and\nunique 
 experience that will bring fans the tracks they love from On\nEvery Street
 \, alongside the classic Dire Straits songs you love to hear.\nTickets £2
 2 : http://www.ticketsource.co.uk/wokinghammusicclub
ATTACH;FMTTYPE=image/jpeg:https://www.lovewokingham.co.uk/wp-content/uploa
 ds/2022/12/DS.jpg
CATEGORIES:Mailchimp Events
LOCATION:The Whitty Theatre\, Luckley Road\, Wokingham\, Berkshire\, RG403E
 U\, United Kingdom
GEO:51.398838;-0.839821
X-APPLE-STRUCTURED-LOCATION;VALUE=URI;X-ADDRESS=Luckley Road\, Wokingham\, 
 Berkshire\, RG403EU\, United Kingdom;X-APPLE-RADIUS=100;X-TITLE=The Whitty
  Theatre:geo:51.398838,-0.839821
END:VEVENT
BEGIN:VTIMEZONE
TZID:Europe/London
X-LIC-LOCATION:Europe/London
BEGIN:STANDARD
DTSTART:20221030T010000
TZOFFSETFROM:+0100
TZOFFSETTO:+0000
TZNAME:GMT
END:STANDARD
END:VTIMEZONE
END:VCALENDAR