BEGIN:VCALENDAR
VERSION:2.0
PRODID:-//wp-events-plugin.com//7.2.2.1//EN
BEGIN:VEVENT
UID:799@lovewokingham.co.uk
DTSTART;TZID=Europe/London:20250314T200000
DTEND;TZID=Europe/London:20250314T220000
DTSTAMP:20250226T140426Z
URL:https://www.lovewokingham.co.uk/events/dukefox-live-at-the-dukes-head
SUMMARY:Dukefox LIVE at the Dukes Head
DESCRIPTION:Come get your Jukefox fix\, live at the Dukes Head.\n\nFemale f
 ronted high energy party band\, with a wide range of feelgood pop/rock/sou
 l/ dance bangers\, from Queen to Erasure\, Stevie Wonder to Girls Aloud\, 
 Portishead to Green Day.\n\nGuaranteed to get you on the dance floor!
ATTACH;FMTTYPE=image/jpeg:https://www.lovewokingham.co.uk/wp-content/uploa
 ds/2025/02/472318940_122203978460199342_8897617840494037747_n.jpeg
CATEGORIES:Mailchimp Events
LOCATION:The Dukes Head\, 46 Denmark Street\, \, Wokingham\, 2BB\, United K
 ingdom
GEO:51.408594;-0.83544
X-APPLE-STRUCTURED-LOCATION;VALUE=URI;X-ADDRESS=46 Denmark Street\, \, Woki
 ngham\, 2BB\, United Kingdom;X-APPLE-RADIUS=100;X-TITLE=The Dukes Head:geo
 :51.408594,-0.83544
END:VEVENT
BEGIN:VTIMEZONE
TZID:Europe/London
X-LIC-LOCATION:Europe/London
BEGIN:STANDARD
DTSTART:20241027T010000
TZOFFSETFROM:+0100
TZOFFSETTO:+0000
TZNAME:GMT
END:STANDARD
END:VTIMEZONE
END:VCALENDAR