BEGIN:VCALENDAR
VERSION:2.0
PRODID:-//wp-events-plugin.com//7.2.2.1//EN
BEGIN:VEVENT
UID:490@lovewokingham.co.uk
DTSTART;TZID=Europe/London:20240323T193000
DTEND;TZID=Europe/London:20240323T220000
DTSTAMP:20240118T092019Z
URL:https://www.lovewokingham.co.uk/events/durufle-requiem
SUMMARY:Durufle: Requiem
DESCRIPTION:Wokingham Choral Society presents Durufle: Requiem\n\nFeaturing
 :\n\nFinzi: Lo\, The Full\, Final Sacrifice\n\nMendelssohn: Hear my Prayer
 \n\nElgar: Seranade for Strings\n\nTickets £17.50 (£5 students &amp\; u1
 8's):\n\nOr in person from Wokingham Information Centre\, Newbury Society 
 and Jay Printers.\n\n&nbsp\;
ATTACH;FMTTYPE=image/jpeg:https://www.lovewokingham.co.uk/wp-content/uploa
 ds/2024/01/thumbnail_March-poster-v5-2024-002-1-e1705569561159.jpg
CATEGORIES:Mailchimp Events
LOCATION:The Great Hall\, University of Reading\, London Road Campus\, Read
 ing\, Berkshire\, RG1 5AQ\, United Kingdom
X-APPLE-STRUCTURED-LOCATION;VALUE=URI;X-ADDRESS=University of Reading\, Lon
 don Road Campus\, Reading\, Berkshire\, RG1 5AQ\, United Kingdom;X-APPLE-R
 ADIUS=100;X-TITLE=The Great Hall:geo:0,0
END:VEVENT
BEGIN:VTIMEZONE
TZID:Europe/London
X-LIC-LOCATION:Europe/London
BEGIN:STANDARD
DTSTART:20231029T010000
TZOFFSETFROM:+0100
TZOFFSETTO:+0000
TZNAME:GMT
END:STANDARD
END:VTIMEZONE
END:VCALENDAR