BEGIN:VCALENDAR
VERSION:2.0
PRODID:-//wp-events-plugin.com//7.2.2.1//EN
BEGIN:VEVENT
UID:299@lovewokingham.co.uk
DTSTART;TZID=Europe/London:20230701T100000
DTEND;TZID=Europe/London:20230701T140000
DTSTAMP:20230616T133152Z
URL:https://www.lovewokingham.co.uk/events/e-bike-event
SUMMARY:E Bike Event
DESCRIPTION:Try E-Bikes
ATTACH;FMTTYPE=image/jpeg:https://www.lovewokingham.co.uk/wp-content/uploa
 ds/2023/06/23ebike-poster-2-e1686922261811.png
CATEGORIES:Mailchimp Events
LOCATION:Car Park at Wokingham Borough Council\, Biscoe Way\, Wokingham\, R
 G40 1WW\, United Kingdom
GEO:51.411041;-0.838473
X-APPLE-STRUCTURED-LOCATION;VALUE=URI;X-ADDRESS=Biscoe Way\, Wokingham\, RG
 40 1WW\, United Kingdom;X-APPLE-RADIUS=100;X-TITLE=Car Park at Wokingham B
 orough Council:geo:51.411041,-0.838473
END:VEVENT
BEGIN:VTIMEZONE
TZID:Europe/London
X-LIC-LOCATION:Europe/London
BEGIN:DAYLIGHT
DTSTART:20230326T020000
TZOFFSETFROM:+0000
TZOFFSETTO:+0100
TZNAME:BST
END:DAYLIGHT
END:VTIMEZONE
END:VCALENDAR