BEGIN:VCALENDAR
VERSION:2.0
PRODID:-//wp-events-plugin.com//7.2.2.1//EN
BEGIN:VEVENT
UID:827@lovewokingham.co.uk
DTSTART;TZID=Europe/London:20250406T110000
DTEND;TZID=Europe/London:20250406T160000
DTSTAMP:20250327T104241Z
URL:https://www.lovewokingham.co.uk/events/easter-fair-2
SUMMARY:Easter Fair
DESCRIPTION:Hop on over to the Easter Fair at the beautiful Dinton Pastures
 !\nFree visits from the Easter Bunny!\nFace Painting\nFood &amp\; Drink\, 
 plus licensed Bar\nCraft stalls\nTrampolines\, Small Rides &amp\; Inflatab
 les\nPrize every time games\nSlime workshops &amp\; Biscuit decorating\n\n
 FREE ENTRY! Usual Dinton parking charges apply.\nDogs welcome - on leads i
 n event area please.\nEaster bunny will hop around at random times through
 out the day - no meeting area.\nBring a picnic blanket and enjoy an EGG-ci
 ting day of fun!\n\n\n\n
ATTACH;FMTTYPE=image/jpeg:https://www.lovewokingham.co.uk/wp-content/uploa
 ds/2025/03/481012539_593907913634222_8863768066586062702_n-1.jpg
CATEGORIES:Mailchimp Events
LOCATION:Dinton Pastures Country Park\,\, Davis Street\, Hurst\, Wokingham\
 , RG10 0TH\, United Kingdom
GEO:51.442424;-0.867744
X-APPLE-STRUCTURED-LOCATION;VALUE=URI;X-ADDRESS=Davis Street\, Hurst\, Woki
 ngham\, RG10 0TH\, United Kingdom;X-APPLE-RADIUS=100;X-TITLE=Dinton Pastur
 es Country Park\,:geo:51.442424,-0.867744
END:VEVENT
BEGIN:VTIMEZONE
TZID:Europe/London
X-LIC-LOCATION:Europe/London
BEGIN:DAYLIGHT
DTSTART:20250330T020000
TZOFFSETFROM:+0000
TZOFFSETTO:+0100
TZNAME:BST
END:DAYLIGHT
END:VTIMEZONE
END:VCALENDAR