BEGIN:VCALENDAR
VERSION:2.0
PRODID:-//wp-events-plugin.com//7.2.2.1//EN
BEGIN:VEVENT
UID:813@lovewokingham.co.uk
DTSTART;TZID=Europe/London:20250408T100000
DTEND;TZID=Europe/London:20250416T160000
DTSTAMP:20250319T142233Z
URL:https://www.lovewokingham.co.uk/events/easter-holiday-fishing-tuition
SUMMARY:Easter Holiday Fishing Tuition
DESCRIPTION:Fancy learning to fish or improve you technique and knowledge?\
 n\nDates are:\nTuesday 8th April\, Thursday 10th April\, Monday 14th April
 \, Wednesday 16th April\nTimes : 10am to 4pm\nEach child will need to be a
 ccompanied by a parent or guardian who will take part in the fishing and t
 uition with their child.\n\nCost per session:\nOne Adult &amp\; One Junior
  £30.00\nExtra Junior £14.00\nExtra Adult Non Fishing £15.00\nFamily of
  4 x 2 Adults 2 Children £50.00\n\nFor more info please go to https://www
 .facebook.com/events/1843426879791152
ATTACH;FMTTYPE=image/jpeg:https://www.lovewokingham.co.uk/wp-content/uploa
 ds/2025/03/480530110_1743775726323011_6246816671187418159_n.jpg
CATEGORIES:Mailchimp Events
LOCATION:Holme Grange Fishery\, Redlake Lane\, Wokingham\, RG40 3BF\, Unite
 d Kingdom
X-APPLE-STRUCTURED-LOCATION;VALUE=URI;X-ADDRESS=Redlake Lane\, Wokingham\, 
 RG40 3BF\, United Kingdom;X-APPLE-RADIUS=100;X-TITLE=Holme Grange Fishery:
 geo:0,0
END:VEVENT
BEGIN:VTIMEZONE
TZID:Europe/London
X-LIC-LOCATION:Europe/London
BEGIN:DAYLIGHT
DTSTART:20250330T020000
TZOFFSETFROM:+0000
TZOFFSETTO:+0100
TZNAME:BST
END:DAYLIGHT
END:VTIMEZONE
END:VCALENDAR