BEGIN:VCALENDAR
VERSION:2.0
PRODID:-//wp-events-plugin.com//7.2.2.1//EN
BEGIN:VEVENT
UID:971@lovewokingham.co.uk
DTSTART;TZID=Europe/London:20251205T190000
DTEND;TZID=Europe/London:20251205T230000
DTSTAMP:20251119T121123Z
URL:https://www.lovewokingham.co.uk/events/elsie-crumpets-bingo-bongo
SUMMARY:Elsie Crumpets Bingo Bongo
DESCRIPTION:Come and join us for an evening of fun with Elsie Crumpet's Bin
 go Bongo\, which is quite simply Bonkers!\nNo previous experience of bingo
  required!\nIf you are turning up to sit and play a normal kind of bingo\,
  think again. Elsie’s Bingo Bongo is a fully interactive hilarious event
  where you could walk away with amazing prizes like a Fray Bentos tinned p
 ie\, a dustpan and brush or you could be lucky enough to bag the battenbur
 g!\n\nRounds include:Speed Party Dance Bingo\, Name That Tune\, Forfeit ti
 me\, Risk it for a biscuit!\, You sing\, I sing!\, Spin the wheel and Jack
 pot Bingo!\nSTAR PRIZE UP FOR GRABS FOR THE MOST GLITZY PERSON!\n\nAll in 
 aid of First Days Children's Charity
ATTACH;FMTTYPE=image/jpeg:https://www.lovewokingham.co.uk/wp-content/uploa
 ds/2025/11/523770471_764263339283822_4994075727997968520_n.jpg
CATEGORIES:Mailchimp Events
LOCATION:St Crispins School Hall\, London Road\, Wokingham\, Berkshire\, RG
 40 1SS\, United Kingdom
X-APPLE-STRUCTURED-LOCATION;VALUE=URI;X-ADDRESS=London Road\, Wokingham\, B
 erkshire\, RG40 1SS\, United Kingdom;X-APPLE-RADIUS=100;X-TITLE=St Crispin
 s School Hall:geo:0,0
END:VEVENT
BEGIN:VTIMEZONE
TZID:Europe/London
X-LIC-LOCATION:Europe/London
BEGIN:STANDARD
DTSTART:20251026T010000
TZOFFSETFROM:+0100
TZOFFSETTO:+0000
TZNAME:GMT
END:STANDARD
END:VTIMEZONE
END:VCALENDAR