BEGIN:VCALENDAR
VERSION:2.0
PRODID:-//wp-events-plugin.com//7.2.2.1//EN
BEGIN:VEVENT
UID:86@lovewokingham.co.uk
DTSTART;TZID=Europe/London:20211030T120000
DTEND;TZID=Europe/London:20211030T200000
DTSTAMP:20210930T151206Z
URL:https://www.lovewokingham.co.uk/events/elusive-brewing-spooktacular-ha
 lloween-party
SUMMARY:Elusive Spooktacular Halloween Party
DESCRIPTION:Spooktacular Halloween party for all the family!
ATTACH;FMTTYPE=image/jpeg:https://www.lovewokingham.co.uk/wp-content/uploa
 ds/2021/09/elusive1.jpg
CATEGORIES:Mailchimp Events
LOCATION:Unit 5 Marino Way\, Finchampstead\, Wokingham\, RG40 4RF\, United 
 Kingdom
X-APPLE-STRUCTURED-LOCATION;VALUE=URI;X-ADDRESS=Finchampstead\, Wokingham\,
  RG40 4RF\, United Kingdom;X-APPLE-RADIUS=100;X-TITLE=Unit 5 Marino Way:ge
 o:0,0
END:VEVENT
BEGIN:VTIMEZONE
TZID:Europe/London
X-LIC-LOCATION:Europe/London
BEGIN:DAYLIGHT
DTSTART:20210328T020000
TZOFFSETFROM:+0000
TZOFFSETTO:+0100
TZNAME:BST
END:DAYLIGHT
END:VTIMEZONE
END:VCALENDAR