BEGIN:VCALENDAR
VERSION:2.0
PRODID:-//wp-events-plugin.com//7.2.2.1//EN
BEGIN:VEVENT
UID:937@lovewokingham.co.uk
DTSTART;TZID=Europe/London:20251026T100000
DTEND;TZID=Europe/London:20251026T120000
DTSTAMP:20250926T121714Z
URL:https://www.lovewokingham.co.uk/events/end-polio-now-crocus-planting
SUMMARY:End Polio Now - Crocus Planting
DESCRIPTION:Come join in the fun at Elms Field\, Wokingham. All welcome.\n\
 nPlanting Crocus and Narcissi.
ATTACH;FMTTYPE=image/jpeg:https://www.lovewokingham.co.uk/wp-content/uploa
 ds/2025/09/486388114_1070858611747572_2802974712495507065_n.jpg
CATEGORIES:Mailchimp Events
LOCATION:Elms Field\, Earle Cresent\, Wokingham\, RG40 1DE\, United Kingdom
X-APPLE-STRUCTURED-LOCATION;VALUE=URI;X-ADDRESS=Earle Cresent\, Wokingham\,
  RG40 1DE\, United Kingdom;X-APPLE-RADIUS=100;X-TITLE=Elms Field:geo:0,0
END:VEVENT
BEGIN:VTIMEZONE
TZID:Europe/London
X-LIC-LOCATION:Europe/London
BEGIN:STANDARD
DTSTART:20251026T010000
TZOFFSETFROM:+0100
TZOFFSETTO:+0000
TZNAME:GMT
END:STANDARD
END:VTIMEZONE
END:VCALENDAR