BEGIN:VCALENDAR
VERSION:2.0
PRODID:-//wp-events-plugin.com//7.2.2.1//EN
BEGIN:VEVENT
UID:870@lovewokingham.co.uk
DTSTART;TZID=Europe/London:20250621T170000
DTEND;TZID=Europe/London:20250621T190000
DTSTAMP:20250605T084718Z
URL:https://www.lovewokingham.co.uk/events/evendons-community-choir-concer
 t
SUMMARY:Evendons Community Choir Concert
DESCRIPTION:Fundraising concert for Kimel Cafe and Evendons Primary School.
 \n\nHeld at Evendons Primary School and supported with refreshments by the
  Kimel Cafe.\n\nDoors open at 5pm for refreshments. Concert starts at 6pm\
 n\nTickets £10 adult\, £6 children from evendonschoir@gmail.com
ATTACH;FMTTYPE=image/jpeg:https://www.lovewokingham.co.uk/wp-content/uploa
 ds/2025/06/thumbnail_IMG-20250528-WA0001.jpg
CATEGORIES:Mailchimp Events
LOCATION:Evendons Primary School\, 161 Finchampstead Rd\, Wokingham\, 3HD\,
  United Kingdom
GEO:51.396741;-0.844541
X-APPLE-STRUCTURED-LOCATION;VALUE=URI;X-ADDRESS=161 Finchampstead Rd\, Woki
 ngham\, 3HD\, United Kingdom;X-APPLE-RADIUS=100;X-TITLE=Evendons Primary S
 chool:geo:51.396741,-0.844541
END:VEVENT
BEGIN:VTIMEZONE
TZID:Europe/London
X-LIC-LOCATION:Europe/London
BEGIN:DAYLIGHT
DTSTART:20250330T020000
TZOFFSETFROM:+0000
TZOFFSETTO:+0100
TZNAME:BST
END:DAYLIGHT
END:VTIMEZONE
END:VCALENDAR