BEGIN:VCALENDAR
VERSION:2.0
PRODID:-//wp-events-plugin.com//7.2.2.1//EN
BEGIN:VEVENT
UID:217@lovewokingham.co.uk
DTSTART;TZID=Europe/London:20230406T103000
DTEND;TZID=Europe/London:20230406T153000
DTSTAMP:20230228T121559Z
URL:https://www.lovewokingham.co.uk/events/exotic-animal-meet-greet
SUMMARY:Exotic Animal Meet & Greet
DESCRIPTION:Perfect for Easter Holidays
ATTACH;FMTTYPE=image/jpeg:https://www.lovewokingham.co.uk/wp-content/uploa
 ds/2023/02/332340443_925651641786723_4670345238092598043_n.jpg
CATEGORIES:Mailchimp Events
LOCATION:St Paul's Parish Rooms\, Reading Road\, Wokingham\, Berkshire\, RG
 41 1EH\, United Kingdom
X-APPLE-STRUCTURED-LOCATION;VALUE=URI;X-ADDRESS=Reading Road\, Wokingham\, 
 Berkshire\, RG41 1EH\, United Kingdom;X-APPLE-RADIUS=100;X-TITLE=St Paul's
  Parish Rooms:geo:0,0
END:VEVENT
BEGIN:VTIMEZONE
TZID:Europe/London
X-LIC-LOCATION:Europe/London
BEGIN:DAYLIGHT
DTSTART:20230326T020000
TZOFFSETFROM:+0000
TZOFFSETTO:+0100
TZNAME:BST
END:DAYLIGHT
END:VTIMEZONE
END:VCALENDAR